BEGIN:VCALENDAR
VERSION:2.0
PRODID:-//Albany Public Schools Foundation - ECPv6.15.18//NONSGML v1.0//EN
CALSCALE:GREGORIAN
METHOD:PUBLISH
X-ORIGINAL-URL:https://albanypsf.org
X-WR-CALDESC:Events for Albany Public Schools Foundation
REFRESH-INTERVAL;VALUE=DURATION:PT1H
X-Robots-Tag:noindex
X-PUBLISHED-TTL:PT1H
BEGIN:VTIMEZONE
TZID:America/Los_Angeles
BEGIN:DAYLIGHT
TZOFFSETFROM:-0800
TZOFFSETTO:-0700
TZNAME:PDT
DTSTART:20240310T100000
END:DAYLIGHT
BEGIN:STANDARD
TZOFFSETFROM:-0700
TZOFFSETTO:-0800
TZNAME:PST
DTSTART:20241103T090000
END:STANDARD
BEGIN:DAYLIGHT
TZOFFSETFROM:-0800
TZOFFSETTO:-0700
TZNAME:PDT
DTSTART:20250309T100000
END:DAYLIGHT
BEGIN:STANDARD
TZOFFSETFROM:-0700
TZOFFSETTO:-0800
TZNAME:PST
DTSTART:20251102T090000
END:STANDARD
BEGIN:DAYLIGHT
TZOFFSETFROM:-0800
TZOFFSETTO:-0700
TZNAME:PDT
DTSTART:20260308T100000
END:DAYLIGHT
BEGIN:STANDARD
TZOFFSETFROM:-0700
TZOFFSETTO:-0800
TZNAME:PST
DTSTART:20261101T090000
END:STANDARD
END:VTIMEZONE
BEGIN:VEVENT
DTSTART;VALUE=DATE:20250505
DTEND;VALUE=DATE:20250510
DTSTAMP:20260421T012558
CREATED:20250429T174531Z
LAST-MODIFIED:20250429T174532Z
UID:10000021-1746403200-1746835199@albanypsf.org
SUMMARY:Teacher Appreciation Week - Peely's Honor Roll
DESCRIPTION:May 5-9 is Teacher Appreciation Week!\nGive your favorite Greater Albany Public Schools teacher or staff member a pat on the back by making a donation to the Albany Public Schools Foundation in their name! With your donation to the APSF of $15 or more\, they will receive a special certificate of appreciation to let them know how much they’re loved! \nYou can thank ANY GAPS staff member! \nThank a teacher\, bus driver\, principal\, office staff\, janitor\, kitchen staff\, counselor\, librarian\, nurse\, teacher’s aid\, or any other special staff member who’s made an impact on you! (Please note that the staff member must be currently employed with GAPS) \nLearn more at https://albanypsf.org/what-we-do/honor-roll/
URL:https://albanypsf.org/event/teacher-appreciation-week-peelys-honor-roll/
LOCATION:OR
END:VEVENT
END:VCALENDAR