BEGIN:VCALENDAR
VERSION:2.0
PRODID:-//Albany Public Schools Foundation - ECPv6.15.18//NONSGML v1.0//EN
CALSCALE:GREGORIAN
METHOD:PUBLISH
X-WR-CALNAME:Albany Public Schools Foundation
X-ORIGINAL-URL:https://albanypsf.org
X-WR-CALDESC:Events for Albany Public Schools Foundation
REFRESH-INTERVAL;VALUE=DURATION:PT1H
X-Robots-Tag:noindex
X-PUBLISHED-TTL:PT1H
BEGIN:VTIMEZONE
TZID:America/Los_Angeles
BEGIN:DAYLIGHT
TZOFFSETFROM:-0800
TZOFFSETTO:-0700
TZNAME:PDT
DTSTART:20240310T100000
END:DAYLIGHT
BEGIN:STANDARD
TZOFFSETFROM:-0700
TZOFFSETTO:-0800
TZNAME:PST
DTSTART:20241103T090000
END:STANDARD
BEGIN:DAYLIGHT
TZOFFSETFROM:-0800
TZOFFSETTO:-0700
TZNAME:PDT
DTSTART:20250309T100000
END:DAYLIGHT
BEGIN:STANDARD
TZOFFSETFROM:-0700
TZOFFSETTO:-0800
TZNAME:PST
DTSTART:20251102T090000
END:STANDARD
BEGIN:DAYLIGHT
TZOFFSETFROM:-0800
TZOFFSETTO:-0700
TZNAME:PDT
DTSTART:20260308T100000
END:DAYLIGHT
BEGIN:STANDARD
TZOFFSETFROM:-0700
TZOFFSETTO:-0800
TZNAME:PST
DTSTART:20261101T090000
END:STANDARD
END:VTIMEZONE
BEGIN:VEVENT
DTSTART;TZID=America/Los_Angeles:20250521T180000
DTEND;TZID=America/Los_Angeles:20250521T190000
DTSTAMP:20260421T012108
CREATED:20250422T211822Z
LAST-MODIFIED:20250422T214838Z
UID:10000019-1747850400-1747854000@albanypsf.org
SUMMARY:SAHS Scholarship Awards Ceremony
DESCRIPTION:Wednesday\, May 21st\n6pm\nSAHS Commons \nThe APSF will be attending the South Albany High School’s Scholarship Awards Ceremony to award several graduating seniors scholarships to help them attend college. \nThis year\, the Albany Public Schools Foundation will be awarding a total of $252\,300 in scholarships to graduating seniors from AOS\, SAHS\, and WAHS. \nCongratulations class of 2025!
URL:https://albanypsf.org/event/sahs-scholarship-awards-ceremony/
LOCATION:South Albany HIgh School\, 3705 Columbus St SE\, Albany\, OR\, 97322\, United States
CATEGORIES:Scholarships
END:VEVENT
END:VCALENDAR