BEGIN:VCALENDAR
VERSION:2.0
PRODID:-//Albany Public Schools Foundation - ECPv6.15.18//NONSGML v1.0//EN
CALSCALE:GREGORIAN
METHOD:PUBLISH
X-WR-CALNAME:Albany Public Schools Foundation
X-ORIGINAL-URL:https://albanypsf.org
X-WR-CALDESC:Events for Albany Public Schools Foundation
REFRESH-INTERVAL;VALUE=DURATION:PT1H
X-Robots-Tag:noindex
X-PUBLISHED-TTL:PT1H
BEGIN:VTIMEZONE
TZID:America/Los_Angeles
BEGIN:DAYLIGHT
TZOFFSETFROM:-0800
TZOFFSETTO:-0700
TZNAME:PDT
DTSTART:20240310T100000
END:DAYLIGHT
BEGIN:STANDARD
TZOFFSETFROM:-0700
TZOFFSETTO:-0800
TZNAME:PST
DTSTART:20241103T090000
END:STANDARD
BEGIN:DAYLIGHT
TZOFFSETFROM:-0800
TZOFFSETTO:-0700
TZNAME:PDT
DTSTART:20250309T100000
END:DAYLIGHT
BEGIN:STANDARD
TZOFFSETFROM:-0700
TZOFFSETTO:-0800
TZNAME:PST
DTSTART:20251102T090000
END:STANDARD
BEGIN:DAYLIGHT
TZOFFSETFROM:-0800
TZOFFSETTO:-0700
TZNAME:PDT
DTSTART:20260308T100000
END:DAYLIGHT
BEGIN:STANDARD
TZOFFSETFROM:-0700
TZOFFSETTO:-0800
TZNAME:PST
DTSTART:20261101T090000
END:STANDARD
END:VTIMEZONE
BEGIN:VEVENT
DTSTART;TZID=America/Los_Angeles:20251108T110000
DTEND;TZID=America/Los_Angeles:20251108T140000
DTSTAMP:20260421T115642
CREATED:20251029T213441Z
LAST-MODIFIED:20251029T213441Z
UID:10000045-1762599600-1762610400@albanypsf.org
SUMMARY:North Albany IGA Holiday Open House
DESCRIPTION:The APSF will be the North Albany IGA’s Holiday Open House \nSaturday\, November 8th \n11am-2pm
URL:https://albanypsf.org/event/north-albany-iga-holiday-open-house/
LOCATION:North Albany IGA\, 621 NW Hickory St.\, Albany\, OR\, 97321\, United States
CATEGORIES:Community Events
ATTACH;FMTTYPE=image/jpeg:https://albanypsf.org/wp-content/uploads/2025/10/Peggy-and-Santa.jpg
END:VEVENT
END:VCALENDAR