BEGIN:VCALENDAR
VERSION:2.0
PRODID:-//Albany Public Schools Foundation - ECPv6.15.18//NONSGML v1.0//EN
CALSCALE:GREGORIAN
METHOD:PUBLISH
X-WR-CALNAME:Albany Public Schools Foundation
X-ORIGINAL-URL:https://albanypsf.org
X-WR-CALDESC:Events for Albany Public Schools Foundation
REFRESH-INTERVAL;VALUE=DURATION:PT1H
X-Robots-Tag:noindex
X-PUBLISHED-TTL:PT1H
BEGIN:VTIMEZONE
TZID:America/Los_Angeles
BEGIN:DAYLIGHT
TZOFFSETFROM:-0800
TZOFFSETTO:-0700
TZNAME:PDT
DTSTART:20240310T100000
END:DAYLIGHT
BEGIN:STANDARD
TZOFFSETFROM:-0700
TZOFFSETTO:-0800
TZNAME:PST
DTSTART:20241103T090000
END:STANDARD
BEGIN:DAYLIGHT
TZOFFSETFROM:-0800
TZOFFSETTO:-0700
TZNAME:PDT
DTSTART:20250309T100000
END:DAYLIGHT
BEGIN:STANDARD
TZOFFSETFROM:-0700
TZOFFSETTO:-0800
TZNAME:PST
DTSTART:20251102T090000
END:STANDARD
BEGIN:DAYLIGHT
TZOFFSETFROM:-0800
TZOFFSETTO:-0700
TZNAME:PDT
DTSTART:20260308T100000
END:DAYLIGHT
BEGIN:STANDARD
TZOFFSETFROM:-0700
TZOFFSETTO:-0800
TZNAME:PST
DTSTART:20261101T090000
END:STANDARD
BEGIN:DAYLIGHT
TZOFFSETFROM:-0800
TZOFFSETTO:-0700
TZNAME:PDT
DTSTART:20270314T100000
END:DAYLIGHT
BEGIN:STANDARD
TZOFFSETFROM:-0700
TZOFFSETTO:-0800
TZNAME:PST
DTSTART:20271107T090000
END:STANDARD
END:VTIMEZONE
BEGIN:VEVENT
DTSTART;VALUE=DATE:20251201
DTEND;VALUE=DATE:20260201
DTSTAMP:20260421T153236
CREATED:20251208T225709Z
LAST-MODIFIED:20251208T225709Z
UID:10000046-1764547200-1769903999@albanypsf.org
SUMMARY:iRun for Kids Early Bird Registration
DESCRIPTION:Don’t miss out on Early Bird Registration for iRun for Kids! \n\niRun for Kids: Saturday\, March 14\, 2026\nEarly Bird Registration: Dec. 1 – Jan. 31\nRegular registration price: Feb. 1 – March 12\nOnline Registration ends March 12.\n\nVisit https://albanypsf.org/events/irun-for-kids/ to learn more and register! \nSTUDENTS (Price does not change) \n\nLittle Leprechaun Dash (K-2nd grade): $10\n5K & 10 Mile: $20\n\nADULTS – EARLY BIRD (12/1 – 1/31) \n\n5K: $40\n10 Mile: $55\n\nADULTS – REGULAR PRICE (2/1 – 3/12) \n\n5K: $50\n10 Mile: $65\n\n 
URL:https://albanypsf.org/event/irun-for-kids-early-bird-registration/
LOCATION:OR
CATEGORIES:Main Events
END:VEVENT
BEGIN:VEVENT
DTSTART;VALUE=DATE:20260101
DTEND;VALUE=DATE:20260201
DTSTAMP:20260421T153236
CREATED:20250103T171705Z
LAST-MODIFIED:20251112T204228Z
UID:10000009-1767225600-1769903999@albanypsf.org
SUMMARY:Monthly Round up at the North Albany IGA
DESCRIPTION:The APSF is the January recipient of the North Albany IGA’s Monthly Round Up! Round up your change at the register to donate directly to us.
URL:https://albanypsf.org/event/monthly-round-up-at-the-north-albany-iga/
LOCATION:North Albany IGA\, 621 NW Hickory St.\, Albany\, OR\, 97321\, United States
CATEGORIES:Community Events,Fundraisers
ATTACH;FMTTYPE=image/jpeg:https://albanypsf.org/wp-content/uploads/2025/01/monthly-round-up.jpg
END:VEVENT
BEGIN:VEVENT
DTSTART;TZID=America/Los_Angeles:20260130T090000
DTEND;TZID=America/Los_Angeles:20260130T170000
DTSTAMP:20260421T153236
CREATED:20250522T214655Z
LAST-MODIFIED:20251118T194001Z
UID:10000028-1769763600-1769792400@albanypsf.org
SUMMARY:Peely's Open House and Odds & Ends Room Shopping
DESCRIPTION:Come shop our Odds & Ends Room\, and get a tour of Peely’s!\nFriday\, January 30th| 9am-5pm | APSF Office (2953 Clover Ridge Rd. NE. Room #10\, Albany 97322) \n\nThe Odds & Ends Room is Open to ALL Teachers in the Greater Albany Public Schools District (School ID Required)\nTours of Peely’s is open to the community! We welcome everyone to come take a look to see how we operate. \n\nThe Odds and Ends room contains items NOT found listed online for Peely’s Teacher Supply House!\nYou never know what you’ll find in this room… there might be organizational supplies\, a box of envelopes\, a box of odd crayons that we wouldn’t normally buy\, or maybe even some classroom decorations! \nThis is a special event for Peely’s that will become more regularly offered as we grow. We will now be offering Odds & Ends Shopping once per semester. Odds & Ends Shopping will not count against your once per semester Peely’s Supply orders. \nThese items are first come\, first served.
URL:https://albanypsf.org/event/peelys-open-house-and-odds-ends-room-shopping/
LOCATION:Albany Public Schools Foundation\, 2953 Clover Ridge Rd. NE Room #10\, Albany\, OR\, 97322\, United States
CATEGORIES:Peely's
ATTACH;FMTTYPE=image/png:https://albanypsf.org/wp-content/uploads/2025/05/Peelys-odds-and-ends-Jan-2026-scaled.png
END:VEVENT
END:VCALENDAR