BEGIN:VCALENDAR
VERSION:2.0
PRODID:-//Albany Public Schools Foundation - ECPv6.15.18//NONSGML v1.0//EN
CALSCALE:GREGORIAN
METHOD:PUBLISH
X-WR-CALNAME:Albany Public Schools Foundation
X-ORIGINAL-URL:https://albanypsf.org
X-WR-CALDESC:Events for Albany Public Schools Foundation
REFRESH-INTERVAL;VALUE=DURATION:PT1H
X-Robots-Tag:noindex
X-PUBLISHED-TTL:PT1H
BEGIN:VTIMEZONE
TZID:America/Los_Angeles
BEGIN:DAYLIGHT
TZOFFSETFROM:-0800
TZOFFSETTO:-0700
TZNAME:PDT
DTSTART:20240310T100000
END:DAYLIGHT
BEGIN:STANDARD
TZOFFSETFROM:-0700
TZOFFSETTO:-0800
TZNAME:PST
DTSTART:20241103T090000
END:STANDARD
BEGIN:DAYLIGHT
TZOFFSETFROM:-0800
TZOFFSETTO:-0700
TZNAME:PDT
DTSTART:20250309T100000
END:DAYLIGHT
BEGIN:STANDARD
TZOFFSETFROM:-0700
TZOFFSETTO:-0800
TZNAME:PST
DTSTART:20251102T090000
END:STANDARD
BEGIN:DAYLIGHT
TZOFFSETFROM:-0800
TZOFFSETTO:-0700
TZNAME:PDT
DTSTART:20260308T100000
END:DAYLIGHT
BEGIN:STANDARD
TZOFFSETFROM:-0700
TZOFFSETTO:-0800
TZNAME:PST
DTSTART:20261101T090000
END:STANDARD
END:VTIMEZONE
BEGIN:VEVENT
DTSTART;VALUE=DATE:20250203
DTEND;VALUE=DATE:20250204
DTSTAMP:20260421T230148
CREATED:20241217T200321Z
LAST-MODIFIED:20241217T201300Z
UID:10000007-1738540800-1738627199@albanypsf.org
SUMMARY:Peely's Teacher Supply House Expanding to Pre-K - 5th Grade
DESCRIPTION:Peely’s Teacher Supply House is Expanding to Pre-K through 5th Grade Teachers in February 2025 \n\n\n\n\nGreater Albany Public Schools teachers for Pre-K through 5th grade can now register to shop for free at Peely’s Teacher Supply House! Be sure to use your GAPS email address so we can verify your status. Teachers can order online once per semester.\nIf you have questions or need more information\, email peely@albanypsf.org.
URL:https://albanypsf.org/event/peelys-teacher-supply-house-expanding-to-pre-k-5th-grade/
LOCATION:OR
CATEGORIES:Peely's
ATTACH;FMTTYPE=image/jpeg:https://albanypsf.org/wp-content/uploads/2024/04/peelys-supply-house-logo-042224.jpg
END:VEVENT
BEGIN:VEVENT
DTSTART;VALUE=DATE:20250201
DTEND;VALUE=DATE:20250202
DTSTAMP:20260421T230148
CREATED:20241213T180651Z
LAST-MODIFIED:20250107T233950Z
UID:10000006-1738368000-1738454399@albanypsf.org
SUMMARY:iRun Early Bird Registration Deadline
DESCRIPTION:Prices increase by $10 for adults. Prices remain the same for K-12 students. \nADULT PRICES BEFORE FEB. 1st \n5K – $35 \n10 Mile – $50 \nADULT PRICES AFTER FEB. 1st \n5K – $45 \n10 Mile – $60
URL:https://albanypsf.org/event/irun-early-bird-registration-deadline/
LOCATION:OR
CATEGORIES:Main Events
END:VEVENT
END:VCALENDAR