BEGIN:VCALENDAR
VERSION:2.0
PRODID:-//Albany Public Schools Foundation - ECPv6.15.18//NONSGML v1.0//EN
CALSCALE:GREGORIAN
METHOD:PUBLISH
X-WR-CALNAME:Albany Public Schools Foundation
X-ORIGINAL-URL:https://albanypsf.org
X-WR-CALDESC:Events for Albany Public Schools Foundation
REFRESH-INTERVAL;VALUE=DURATION:PT1H
X-Robots-Tag:noindex
X-PUBLISHED-TTL:PT1H
BEGIN:VTIMEZONE
TZID:America/Los_Angeles
BEGIN:DAYLIGHT
TZOFFSETFROM:-0800
TZOFFSETTO:-0700
TZNAME:PDT
DTSTART:20240310T100000
END:DAYLIGHT
BEGIN:STANDARD
TZOFFSETFROM:-0700
TZOFFSETTO:-0800
TZNAME:PST
DTSTART:20241103T090000
END:STANDARD
BEGIN:DAYLIGHT
TZOFFSETFROM:-0800
TZOFFSETTO:-0700
TZNAME:PDT
DTSTART:20250309T100000
END:DAYLIGHT
BEGIN:STANDARD
TZOFFSETFROM:-0700
TZOFFSETTO:-0800
TZNAME:PST
DTSTART:20251102T090000
END:STANDARD
BEGIN:DAYLIGHT
TZOFFSETFROM:-0800
TZOFFSETTO:-0700
TZNAME:PDT
DTSTART:20260308T100000
END:DAYLIGHT
BEGIN:STANDARD
TZOFFSETFROM:-0700
TZOFFSETTO:-0800
TZNAME:PST
DTSTART:20261101T090000
END:STANDARD
END:VTIMEZONE
BEGIN:VEVENT
DTSTART;TZID=America/Los_Angeles:20251025T170000
DTEND;TZID=America/Los_Angeles:20251025T210000
DTSTAMP:20260421T081500
CREATED:20250812T222120Z
LAST-MODIFIED:20250812T222236Z
UID:10000038-1761411600-1761426000@albanypsf.org
SUMMARY:iCelebrate Kids Benefit Gala Fundraiser
DESCRIPTION:Saturday\, October 25th\, 2025\nLinn County Expo Center \nThe iCelebrate Kids Benefit Gala is a dinner and live auction to support the activities and programs of the Albany Public Schools Foundation. The evening includes a catered dinner\, silent and live auctions\, a wine pull\, and the famous Dessert Dash! \nThis year’s theme is “Ignite a Future of Possibilities” as we showcase our different programs that support the students and teachers in our community. \nRegistration Deadline is Friday\, October 10th \nPlease note that iCelebrate Kids is a 21 and over event.  \nATTIRE: Semi-Formal \nTICKETS:  \n\n$80 per person\n$600 for a table of 8\nBUSINESSES: Sponsor a table for $750 and get 8 guests & drink tickets + sponsorship benefits
URL:https://albanypsf.org/event/icelebrate-kids-benefit-gala-fundraiser/
LOCATION:Linn County Expo Center\, 3700 Knox Butte Rd E.\, Albany\, OR\, 97322
CATEGORIES:Main Events
ATTACH;FMTTYPE=image/png:https://albanypsf.org/wp-content/uploads/2025/05/iCelebrate-2025-banner.png
END:VEVENT
END:VCALENDAR